BEGIN:VCALENDAR
VERSION:2.0
PRODID:-//Home - ECPv6.15.20//NONSGML v1.0//EN
CALSCALE:GREGORIAN
METHOD:PUBLISH
X-WR-CALNAME:Home
X-ORIGINAL-URL:https://schutzlq.com
X-WR-CALDESC:Events for Home
REFRESH-INTERVAL;VALUE=DURATION:PT1H
X-Robots-Tag:noindex
X-PUBLISHED-TTL:PT1H
BEGIN:VTIMEZONE
TZID:America/Los_Angeles
BEGIN:DAYLIGHT
TZOFFSETFROM:-0800
TZOFFSETTO:-0700
TZNAME:PDT
DTSTART:20230312T100000
END:DAYLIGHT
BEGIN:STANDARD
TZOFFSETFROM:-0700
TZOFFSETTO:-0800
TZNAME:PST
DTSTART:20231105T090000
END:STANDARD
BEGIN:DAYLIGHT
TZOFFSETFROM:-0800
TZOFFSETTO:-0700
TZNAME:PDT
DTSTART:20240310T100000
END:DAYLIGHT
BEGIN:STANDARD
TZOFFSETFROM:-0700
TZOFFSETTO:-0800
TZNAME:PST
DTSTART:20241103T090000
END:STANDARD
BEGIN:DAYLIGHT
TZOFFSETFROM:-0800
TZOFFSETTO:-0700
TZNAME:PDT
DTSTART:20250309T100000
END:DAYLIGHT
BEGIN:STANDARD
TZOFFSETFROM:-0700
TZOFFSETTO:-0800
TZNAME:PST
DTSTART:20251102T090000
END:STANDARD
END:VTIMEZONE
BEGIN:VEVENT
DTSTART;TZID=America/Los_Angeles:20240307T090000
DTEND;TZID=America/Los_Angeles:20240307T120000
DTSTAMP:20260423T080255
CREATED:20190218T135057Z
LAST-MODIFIED:20240124T215713Z
UID:399-1709802000-1709812800@schutzlq.com
SUMMARY:Res 1 Annual Meeting & Election
DESCRIPTION:PGA West Residential Association\, 54-320 Southern Hills\, La Quinta\, CA 92253
URL:https://schutzlq.com/calendar/res-1-annual-meeting-election/
LOCATION:Res 1 Offices\, 54-320 Southern Hills\, La Quinta
END:VEVENT
BEGIN:VEVENT
DTSTART;TZID=America/Los_Angeles:20240202T160000
DTEND;TZID=America/Los_Angeles:20240202T180000
DTSTAMP:20260423T080255
CREATED:20210207T202545Z
LAST-MODIFIED:20240124T215605Z
UID:727-1706889600-1706896800@schutzlq.com
SUMMARY:Meet the Candidates Event
DESCRIPTION:
URL:https://schutzlq.com/calendar/meet-the-candidates-event/
LOCATION:Res 1 Offices\, 54-320 Southern Hills\, La Quinta
END:VEVENT
BEGIN:VEVENT
DTSTART;VALUE=DATE:20240201
DTEND;VALUE=DATE:20240202
DTSTAMP:20260423T080255
CREATED:20210313T211857Z
LAST-MODIFIED:20240124T215758Z
UID:888-1706745600-1706831999@schutzlq.com
SUMMARY:Election Ballots Mailed to Homeowners
DESCRIPTION:
URL:https://schutzlq.com/calendar/election-ballots-mailed-to-homeowners/
END:VEVENT
END:VCALENDAR